BEGIN:VCALENDAR
VERSION:2.0
PRODID:-//wp-events-plugin.com//7.2.3.1//EN
TZID:Europe/London
X-WR-TIMEZONE:Europe/London
BEGIN:VEVENT
UID:0-22@workneh.org.uk
DTSTART;TZID=Europe/London:20251115T150000
DTEND;TZID=Europe/London:20251115T160000
DTSTAMP:20251022T105434Z
URL:https://workneh.org.uk/events/joint-wada-wdef-meeting/
SUMMARY:Joint WADA/WDEF meeting
DESCRIPTION:
LOCATION:https://us02web.zoom.us/j/82606330215?pwd=UUhzbWN5YjQzUTdhWHRmZEhE
 M3ppUT09
END:VEVENT
BEGIN:VEVENT
UID:0-32@workneh.org.uk
DTSTART;TZID=Europe/London:20251213T150000
DTEND;TZID=Europe/London:20251213T160000
DTSTAMP:20251107T122124Z
URL:https://workneh.org.uk/events/joint-wada-wdef-meeting-2025-12-13/
SUMMARY:Joint WADA/WDEF Meeting
DESCRIPTION:Online meeting between our Core Group\, Trustees and Board memb
 ers of WADA in Oromia about the progress of the school build.
LOCATION:https://us02web.zoom.us/j/82606330215?pwd=UUhzbWN5YjQzUTdhWHRmZEhE
 M3ppUT09
END:VEVENT
BEGIN:VEVENT
UID:0-33@workneh.org.uk
DTSTART;TZID=Europe/London:20260124T150000
DTEND;TZID=Europe/London:20260124T160000
DTSTAMP:20260109T104742Z
URL:https://workneh.org.uk/events/joint-wada-wdef-meeting-2025-12-13-2026-
 01-10/
SUMMARY:Joint WADA/WDEF Meeting
DESCRIPTION:Online meeting between our Core Group\, Trustees and Board memb
 ers of WADA in Oromia about the progress of the school build.
LOCATION:https://us02web.zoom.us/j/82606330215?pwd=UUhzbWN5YjQzUTdhWHRmZEhE
 M3ppUT09
END:VEVENT
BEGIN:VEVENT
UID:0-35@workneh.org.uk
DTSTART;TZID=Europe/London:20260314T150000
DTEND;TZID=Europe/London:20260314T160000
DTSTAMP:20260109T104815Z
URL:https://workneh.org.uk/events/joint-wada-wdef-meeting-2025-12-13-2026-
 01-10-2026-02-14-2026-03-14/
SUMMARY:Joint WADA/WDEF Meeting and AGM
DESCRIPTION:Online meeting between our Core Group\, Trustees and Board memb
 ers of WADA in Oromia about the progress of the school build.
LOCATION:https://us02web.zoom.us/j/82606330215?pwd=UUhzbWN5YjQzUTdhWHRmZEhE
 M3ppUT09
END:VEVENT
BEGIN:VEVENT
UID:0-36@workneh.org.uk
DTSTART;TZID=Europe/London:20260411T150000
DTEND;TZID=Europe/London:20260411T160000
DTSTAMP:20251107T122124Z
URL:https://workneh.org.uk/events/joint-wada-wdef-meeting-2025-12-13-2026-
 01-10-2026-02-14-2026-03-14-2026-04-11/
SUMMARY:Joint WADA/WDEF Meeting
DESCRIPTION:Online meeting between our Core Group\, Trustees and Board memb
 ers of WADA in Oromia about the progress of the school build.
LOCATION:https://us02web.zoom.us/j/82606330215?pwd=UUhzbWN5YjQzUTdhWHRmZEhE
 M3ppUT09
END:VEVENT
BEGIN:VEVENT
UID:0-37@workneh.org.uk
DTSTART;TZID=Europe/London:20260509T150000
DTEND;TZID=Europe/London:20260509T160000
DTSTAMP:20251107T122124Z
URL:https://workneh.org.uk/events/joint-wada-wdef-meeting-2025-12-13-2026-
 01-10-2026-02-14-2026-03-14-2026-04-11-2026-05-09/
SUMMARY:Joint WADA/WDEF Meeting
DESCRIPTION:Online meeting between our Core Group\, Trustees and Board memb
 ers of WADA in Oromia about the progress of the school build.
LOCATION:https://us02web.zoom.us/j/82606330215?pwd=UUhzbWN5YjQzUTdhWHRmZEhE
 M3ppUT09
END:VEVENT
BEGIN:VEVENT
UID:0-38@workneh.org.uk
DTSTART;TZID=Europe/London:20260613T150000
DTEND;TZID=Europe/London:20260613T160000
DTSTAMP:20251107T122124Z
URL:https://workneh.org.uk/events/joint-wada-wdef-meeting-2025-12-13-2026-
 01-10-2026-02-14-2026-03-14-2026-04-11-2026-05-09-2026-06-13/
SUMMARY:Joint WADA/WDEF Meeting
DESCRIPTION:Online meeting between our Core Group\, Trustees and Board memb
 ers of WADA in Oromia about the progress of the school build.
LOCATION:https://us02web.zoom.us/j/82606330215?pwd=UUhzbWN5YjQzUTdhWHRmZEhE
 M3ppUT09
END:VEVENT
BEGIN:VTIMEZONE
TZID:Europe/London
X-LIC-LOCATION:Europe/London
BEGIN:STANDARD
DTSTART:20251026T010000
TZOFFSETFROM:+0100
TZOFFSETTO:+0000
TZNAME:GMT
END:STANDARD
BEGIN:DAYLIGHT
DTSTART:20260329T020000
TZOFFSETFROM:+0000
TZOFFSETTO:+0100
TZNAME:BST
END:DAYLIGHT
END:VTIMEZONE
END:VCALENDAR